{"text_format":"1","workbook":"xlsx","n_sheets":6,"sheets":["A","B","C","D","E","Maestros"],"not_rendered":{"charts":0,"images":6,"macros":1,"external_links":0,"defined_names":3,"comments":0,"pivot_tables":0},"unopened":[],"bounds":{"document_bytes":16777216,"sheet_cells":100000,"rows_first":2000,"rows_last":500,"rows_between":2000,"halvings":0,"cell_chars":16384,"cell_head_chars":4096},"cells_cut":0,"cells_raw":0,"read":"whole","date_system":"1900"}

{"sheet":"A","index":0,"n_rows":53,"n_cols":22,"rows_kept":53,"cut":false,"hidden":false,"merged":[[8,16,8,17],[8,19,9,19],[8,20,9,20],[8,21,9,21],[8,2,10,2],[8,3,10,3],[8,5,10,5],[8,6,10,6],[8,4,10,4],[8,1,10,1],[9,10,10,10],[9,11,10,11],[8,13,9,13],[8,14,8,15]]}
[null,null,"CUADRO A: IDENTIFICACIÓN DE NECESIDADES DE HORAS PEDAGÓGICAS LECTIVAS"]
[null,null,"REGIÓN:",null,null,null,null,null,null,null,null,"JUNIN"]
[null,null,"NOMBRE COMPLETO DEL IEST:",null,null,null,null,null,null,null,null,"IESTP \"MARCO\""]
[null,null,"CODIGO MODULAR:",null,null,null,null,null,null,null,null,814749]
[null,null,"PROGRAMA DE ESTUDIOS:",null,null,null,null,null,null,null,null,"ENFERMERIA TECNICA"]
[null,null,"SEDE O FILIAL:"]
[]
[null,null,null,null,"Plan de estudios",null,null,null,null,null,null,null,null,"Estudiantes y ambiente de aprendizaje ",null,null,null,null,null,"Carga lectiva requerida"]
[null,"Periodo académico","Módulo formativo asociado","Unidad Didáctica (UD)","Nombre de Unidad Didáctica (UD)","Créditos","Tipo de competencia Específicas, Empleabilidad o Transversal ",null,"Horas Semanales por UD",null,"Perfil Docente",null,null,"Número proyectado de estudiantes matriculados","Capacidad",null,"Proyección de número de espacios formativos",null,null,"Número de horas teórico-prácticas","Número de horas prácticas","Total de horas lectivas requeridas"]
[null,null,null,null,null,null,null,"Horas teórico - prácticas (TP)","Horas prácticas (P)","Horas semanales por UD","Formación Académica","Experiencia específica",null,null,"Capacidad de ambientes de aprendizaje para hora TP ","Capacidad de ambientes de aprendizaje para hora P ","Número de secciones teórico-prácticas","Número de grupos de práctica"]
[null,null,null,null,null,null,null,"(1)","(2)","(3)= (1)+(2)",null,null,null,"(4)","(5)","(6)","(7)=(4)/(5)","(8)=(4)/(6)",null,"(9)=(1)*(7)","(10)=(2)*(8)","(11)=(9)+(10)"]
[null,"Mar-Jul","Módulo 1",{"$f":"+\"UD \"&1","v":"UD 1"},"Salud comunitaria y familiar",5,"Especificas",6,{"$f":"SUM(G12:H12)","v":6},{"$f":"SUM(H12:I12)","v":12},"Lic en enfermeria","Formacion en SC",null,36,36,9,{"$f":"IF(O12>0,ROUNDUP(N12/O12,0),0)","v":1},{"$f":"IF(P12>0,ROUNDUP(N12/P12,0),0)","v":4},null,{"$f":"+H12*Q12","v":6},24,{"$f":"SUM(T12:U12)","v":30}]
[null,{"$f":"+B12","v":"Mar-Jul"},{"$f":"+C12","v":"Módulo 1"},{"$f":"+\"UD \"&(MID(D12,3,20)*1+1)","v":"UD 2"},"Tecnicas de comunicación en salud",3,"Especificas",4,{"$f":"SUM(G13:H13)","v":4},{"$f":"SUM(H13:I13)","v":8},"Lic en enfermeria","Formacion en TC",null,36,36,9,{"$f":"IF(O13>0,ROUNDUP(N13/O13,0),0)","v":1},{"$f":"IF(P13>0,ROUNDUP(N13/P13,0),0)","v":4},null,4,16,{"$f":"SUM(T13:U13)","v":20}]
[null,{"$f":"+B13","v":"Mar-Jul"},{"$f":"+C13","v":"Módulo 1"},"UD 3","Anatomia funcional",4,"Especificas",4,4,8,"Lic en enfermeria","Formacion en AF",null,36,36,9,1,4,null,4,16,20]
[null,{"$f":"+B14","v":"Mar-Jul"},"Módulo 1","UD 4","Primeros auxilios",4,"Especificas",4,{"$f":"SUM(G15:H15)","v":4},{"$f":"SUM(H15:I15)","v":8},"Lic en enfermeria","Formacion en PA",null,36,36,0,{"$f":"IF(O15>0,ROUNDUP(N15/O15,0),0)","v":1},{"$f":"IF(P15>0,ROUNDUP(N15/P15,0),0)","v":0},null,{"$f":"+H15*Q15","v":4},{"$f":"+I15*R15","v":0},{"$f":"SUM(T15:U15)","v":4}]
[null,{"$f":"+B15","v":"Mar-Jul"},"Módulo 1","UD 5","Comunicación oral",2,"Empleabilidad",2,2,{"$f":"SUM(H16:I16)","v":4},"Lic en pedagogia","Formacion CO",null,36,36,36,{"$f":"IF(O16>0,ROUNDUP(N16/O16,0),0)","v":1},{"$f":"IF(P16>0,ROUNDUP(N16/P16,0),0)","v":1},null,{"$f":"+H16*Q16","v":2},{"$f":"+I16*R16","v":2},{"$f":"SUM(T16:U16)","v":4}]
[null,{"$f":"+B16","v":"Mar-Jul"},"Módulo 1","UD 6","Ofimatica",1,"Empleabilidad",2,2,{"$f":"SUM(H17:I17)","v":4},"Lic en computacion Formacion en C","Formacion OF",null,36,0,18,{"$f":"IF(O17>0,ROUNDUP(N17/O17,0),0)","v":0},{"$f":"IF(P17>0,ROUNDUP(N17/P17,0),0)","v":2},null,{"$f":"+H17*Q17","v":0},{"$f":"+I17*R17","v":4},{"$f":"SUM(T17:U17)","v":4}]
[null,null,null,{"$f":"+\"Sub total \"&C14","v":"Sub total Módulo 1"},null,{"$f":"+SUMIFS(F:F,$C:$C,MID($D18,11,8))","v":37},null,{"$f":"+SUMIFS(H:H,$C:$C,MID($D18,11,8))","v":46},{"$f":"+SUMIFS(I:I,$C:$C,MID($D18,11,8))","v":52},{"$f":"+SUMIFS(J:J,$C:$C,MID($D18,11,8))","v":98}," - "," - ",null,{"$f":"+SUMIFS(N:N,$C:$C,MID($D18,11,8))","v":432},null,null,{"$f":"+SUMIFS(Q:Q,$C:$C,MID($D18,11,8))","v":9},{"$f":"+SUMIFS(R:R,$C:$C,MID($D18,11,8))","v":34},null,{"$f":"+SUMIFS(T:T,$C:$C,MID($D18,11,8))","v":40},{"$f":"+SUMIFS(U:U,$C:$C,MID($D18,11,8))","v":172},{"$f":"+SUMIFS(V:V,$C:$C,MID($D18,11,8))","v":212}]
[null,"Mar-Jul","Módulo 2",{"$f":"+\"UD \"&1","v":"UD 1"},"Asistencia al usuario ambulatorio y hospitalizado",2,"Especificas",6,{"$f":"SUM(G19:H19)","v":6},{"$f":"SUM(H19:I19)","v":12},"Lic en enfermeria","Formacion AB",null,60,30,10,{"$f":"IF(O19>0,ROUNDUP(N19/O19,0),0)","v":2},{"$f":"IF(P19>0,ROUNDUP(N19/P19,0),0)","v":6},null,{"$f":"+H19*Q19","v":12},{"$f":"+I19*R19","v":36},{"$f":"SUM(T19:U19)","v":48}]
[null,{"$f":"+B19","v":"Mar-Jul"},{"$f":"+C19","v":"Módulo 2"},{"$f":"+\"UD \"&(MID(D19,3,20)*1+1)","v":"UD 2"},"Muestras biologicas",1,"Especificas",4,{"$f":"SUM(G20:H20)","v":4},{"$f":"SUM(H20:I20)","v":8},"Lic en enfermeria","Formacion MB",null,60,30,10,{"$f":"IF(O20>0,ROUNDUP(N20/O20,0),0)","v":2},{"$f":"IF(P20>0,ROUNDUP(N20/P20,0),0)","v":6},null,8,24,{"$f":"SUM(T20:U20)","v":32}]
[null,{"$f":"+B20","v":"Mar-Jul"},{"$f":"+C20","v":"Módulo 2"},"UD 3","Bioseguridad y esterilizacion",1,"Especificas",4,4,8,"Lic en enfermeria","Formacion CQE",null,60,30,10,2,6,null,8,24,32]
[null,{"$f":"+B21","v":"Mar-Jul"},"Módulo 2","UD 4","Asistencia en la administracion de medicamentos",2,"Especificas",4,{"$f":"SUM(G22:H22)","v":4},{"$f":"SUM(H22:I22)","v":8},"Lic en enfermeria","Formacion EG",null,60,30,10,{"$f":"IF(O22>0,ROUNDUP(N22/O22,0),0)","v":2},{"$f":"IF(P22>0,ROUNDUP(N22/P22,0),0)","v":6},null,{"$f":"+H22*Q22","v":8},{"$f":"+I22*R22","v":24},{"$f":"SUM(T22:U22)","v":32}]
[null,{"$f":"+B22","v":"Mar-Jul"},"Módulo 2","UD 5","Fundamentos de investigacion e innovacion tecnologica",1,"Empleabilidad",2,2,{"$f":"SUM(H23:I23)","v":4},"Lic en educacion","Investigaciones",null,60,30,30,{"$f":"IF(O23>0,ROUNDUP(N23/O23,0),0)","v":2},{"$f":"IF(P23>0,ROUNDUP(N23/P23,0),0)","v":2},null,{"$f":"+H23*Q23","v":4},{"$f":"+I23*R23","v":4},{"$f":"SUM(T23:U23)","v":8}]
[null,{"$f":"+B23","v":"Mar-Jul"},"Módulo 2","UD 6","Ingles para la comunicación oral",1,"Empleabilidad",2,2,{"$f":"SUM(H24:I24)","v":4},"Prof dominio ingles","Ingles",null,60,30,30,{"$f":"IF(O24>0,ROUNDUP(N24/O24,0),0)","v":2},{"$f":"IF(P24>0,ROUNDUP(N24/P24,0),0)","v":2},null,{"$f":"+H24*Q24","v":4},{"$f":"+I24*R24","v":4},{"$f":"SUM(T24:U24)","v":8}]
[null,null,null,{"$f":"+\"Sub total \"&C18","v":"Sub total "},null,{"$f":"+SUMIFS(F:F,$C:$C,MID($D25,11,8))","v":0},null,{"$f":"+SUMIFS(H:H,$C:$C,MID($D25,11,8))","v":0},{"$f":"+SUMIFS(I:I,$C:$C,MID($D25,11,8))","v":0},{"$f":"+SUMIFS(J:J,$C:$C,MID($D25,11,8))","v":0}," - "," - ",null,{"$f":"+SUMIFS(N:N,$C:$C,MID($D25,11,8))","v":0},null,null,{"$f":"+SUMIFS(Q:Q,$C:$C,MID($D25,11,8))","v":0},{"$f":"+SUMIFS(R:R,$C:$C,MID($D25,11,8))","v":0},null,{"$f":"+SUMIFS(T:T,$C:$C,MID($D25,11,8))","v":0},{"$f":"+SUMIFS(U:U,$C:$C,MID($D25,11,8))","v":0},{"$f":"+SUMIFS(V:V,$C:$C,MID($D25,11,8))","v":0}]
[null,"Mar-Jul","Módulo 3",{"$f":"+\"UD \"&1","v":"UD 1"},"Asistencia en salud materna",2,"Especificas",4,6,{"$f":"SUM(H26:I26)","v":10},"Lic en enfermeria","Formacion SM",null,30,30,10,{"$f":"IF(O26>0,ROUNDUP(N26/O26,0),0)","v":1},{"$f":"IF(P26>0,ROUNDUP(N26/P26,0),0)","v":3},null,{"$f":"+H26*Q26","v":4},{"$f":"+I26*R26","v":18},{"$f":"SUM(T26:U26)","v":22}]
[null,{"$f":"+B26","v":"Mar-Jul"},{"$f":"+C26","v":"Módulo 3"},{"$f":"+\"UD \"&(MID(D26,3,20)*1+1)","v":"UD 2"},"Asistencia del niño y adolescente",2,"Especificas",4,6,{"$f":"SUM(H27:I27)","v":10},"Lic en enfermeria","Formacion NA",null,30,30,10,{"$f":"IF(O27>0,ROUNDUP(N27/O27,0),0)","v":1},{"$f":"IF(P27>0,ROUNDUP(N27/P27,0),0)","v":3},null,4,18,{"$f":"SUM(T27:U27)","v":22}]
[null,{"$f":"+B27","v":"Mar-Jul"},{"$f":"+C27","v":"Módulo 3"},"UD 3","Asistencia al adulto mayor",2,"Especificas",4,6,10,"Lic en enfermeria","Formacion AM",null,30,30,10,1,3,null,4,18,22]
[null,{"$f":"+B28","v":"Mar-Jul"},"Módulo 3","UD 4","Asistencia en salud mental",2,"Especificas",4,6,{"$f":"SUM(H29:I29)","v":10},"Lic en enfermeria","Formacion SM",null,30,30,10,{"$f":"IF(O29>0,ROUNDUP(N29/O29,0),0)","v":1},{"$f":"IF(P29>0,ROUNDUP(N29/P29,0),0)","v":3},null,{"$f":"+H29*Q29","v":4},{"$f":"+I29*R29","v":18},{"$f":"SUM(T29:U29)","v":22}]
[null,{"$f":"+B29","v":"Mar-Jul"},"Módulo 3","UD 5","Comportamiento etico",1,"Empleabilidad",2,3,{"$f":"SUM(H30:I30)","v":5},"Lic en educacion","Etica y deontologia",null,30,30,30,{"$f":"IF(O30>0,ROUNDUP(N30/O30,0),0)","v":1},{"$f":"IF(P30>0,ROUNDUP(N30/P30,0),0)","v":1},null,{"$f":"+H30*Q30","v":2},{"$f":"+I30*R30","v":3},{"$f":"SUM(T30:U30)","v":5}]
[null,{"$f":"+B30","v":"Mar-Jul"},"Módulo 3","UD 6","Oportunidades de negocio",1,"Empleabilidad",2,3,{"$f":"SUM(H31:I31)","v":5},"Economista","Formacion negocios",null,30,30,30,{"$f":"IF(O31>0,ROUNDUP(N31/O31,0),0)","v":1},{"$f":"IF(P31>0,ROUNDUP(N31/P31,0),0)","v":1},null,{"$f":"+H31*Q31","v":2},{"$f":"+I31*R31","v":3},{"$f":"SUM(T31:U31)","v":5}]
[null,null,null,{"$f":"+\"Sub total \"&C25","v":"Sub total "},null,{"$f":"+SUMIFS(F:F,$C:$C,MID($D32,11,8))","v":0},null,{"$f":"+SUMIFS(H:H,$C:$C,MID($D32,11,8))","v":0},{"$f":"+SUMIFS(I:I,$C:$C,MID($D32,11,8))","v":0},{"$f":"+SUMIFS(J:J,$C:$C,MID($D32,11,8))","v":0}," - "," - ",null,{"$f":"+SUMIFS(N:N,$C:$C,MID($D32,11,8))","v":0},null,null,{"$f":"+SUMIFS(Q:Q,$C:$C,MID($D32,11,8))","v":0},{"$f":"+SUMIFS(R:R,$C:$C,MID($D32,11,8))","v":0},null,{"$f":"+SUMIFS(T:T,$C:$C,MID($D32,11,8))","v":0},{"$f":"+SUMIFS(U:U,$C:$C,MID($D32,11,8))","v":0},{"$f":"+SUMIFS(V:V,$C:$C,MID($D32,11,8))","v":0}]
[null,"Ago-Dic","Módulo 1",{"$f":"+\"UD \"&1","v":"UD 1"},"Salud Pública",5,"Especificas",6,8,{"$f":"SUM(H33:I33)","v":14},"Lic en enfermeria","Formacion SP",null,36,36,10,{"$f":"IF(O33>0,ROUNDUP(N33/O33,0),0)","v":1},{"$f":"IF(P33>0,ROUNDUP(N33/P33,0),0)","v":4},null,{"$f":"+H33*Q33","v":6},{"$f":"+I33*R33","v":32},{"$f":"SUM(T33:U33)","v":38}]
[null,{"$f":"+B33","v":"Ago-Dic"},{"$f":"+C33","v":"Módulo 1"},{"$f":"+\"UD \"&(MID(D33,3,20)*1+1)","v":"UD 2"},"Actividades en Epidemiología y vigilancia activa",4,"Especificas",4,6,{"$f":"SUM(H34:I34)","v":10},"Lic en enfermeria","Formacion VE",null,36,36,10,{"$f":"IF(O34>0,ROUNDUP(N34/O34,0),0)","v":1},{"$f":"IF(P34>0,ROUNDUP(N34/P34,0),0)","v":4},null,4,24,{"$f":"SUM(T34:U34)","v":28}]
[null,{"$f":"+B34","v":"Ago-Dic"},{"$f":"+C34","v":"Módulo 1"},"UD 3","Asistencia en Salud Ocupacional",3,"Especificas",4,5,9,"Lic en enfermeria","Formacion SO",null,36,36,10,1,4,null,4,20,24]
[null,{"$f":"+B35","v":"Ago-Dic"},"Módulo 1","UD 4","Asistencia en Inmunizaciones",4,"Especificas",6,7,{"$f":"SUM(H36:I36)","v":13},"Lic en enfermeria","Formacion INM.",null,36,36,10,{"$f":"IF(O36>0,ROUNDUP(N36/O36,0),0)","v":1},{"$f":"IF(P36>0,ROUNDUP(N36/P36,0),0)","v":4},null,{"$f":"+H36*Q36","v":6},{"$f":"+I36*R36","v":28},{"$f":"SUM(T36:U36)","v":34}]
[null,{"$f":"+B36","v":"Ago-Dic"},"Módulo 1","UD 5","Interpretación y redacción de textos",1,"Empleabilidad",2,{"$f":"SUM(G37:H37)","v":2},{"$f":"SUM(H37:I37)","v":4},"Lic en pedagogia","Formacion RT",null,36,0,36,{"$f":"IF(O37>0,ROUNDUP(N37/O37,0),0)","v":0},{"$f":"IF(P37>0,ROUNDUP(N37/P37,0),0)","v":1},null,{"$f":"+H37*Q37","v":0},{"$f":"+I37*R37","v":2},{"$f":"SUM(T37:U37)","v":2}]
[null,{"$f":"+B37","v":"Ago-Dic"},"Módulo 1","UD 6","Aplicaciones en internet",1,"Empleabilidad",2,2,{"$f":"SUM(H38:I38)","v":4},"Lic en computacion Formacion en C",null,null,36,0,18,{"$f":"IF(O38>0,ROUNDUP(N38/O38,0),0)","v":0},{"$f":"IF(P38>0,ROUNDUP(N38/P38,0),0)","v":2},null,{"$f":"+H38*Q38","v":0},{"$f":"+I38*R38","v":4},{"$f":"SUM(T38:U38)","v":4}]
[null,null,null,{"$f":"+\"Sub total \"&C32","v":"Sub total "},null,{"$f":"+SUMIFS(F:F,$C:$C,MID($D39,11,8))","v":0},null,{"$f":"+SUMIFS(H:H,$C:$C,MID($D39,11,8))","v":0},{"$f":"+SUMIFS(I:I,$C:$C,MID($D39,11,8))","v":0},{"$f":"+SUMIFS(J:J,$C:$C,MID($D39,11,8))","v":0}," - "," - ",null,{"$f":"+SUMIFS(N:N,$C:$C,MID($D39,11,8))","v":0},null,null,{"$f":"+SUMIFS(Q:Q,$C:$C,MID($D39,11,8))","v":0},{"$f":"+SUMIFS(R:R,$C:$C,MID($D39,11,8))","v":0},null,{"$f":"+SUMIFS(T:T,$C:$C,MID($D39,11,8))","v":0},{"$f":"+SUMIFS(U:U,$C:$C,MID($D39,11,8))","v":0},{"$f":"+SUMIFS(V:V,$C:$C,MID($D39,11,8))","v":0}]
[null,"Ago-Dic","Módulo 2",{"$f":"+\"UD \"&1","v":"UD 1"},"Asistencia en nutrición y dietas",3,"Especificas",4,5,{"$f":"SUM(H40:I40)","v":9},"Lic en enfermeria","Formacion ND",null,60,30,10,{"$f":"IF(O40>0,ROUNDUP(N40/O40,0),0)","v":2},{"$f":"IF(P40>0,ROUNDUP(N40/P40,0),0)","v":6},null,{"$f":"+H40*Q40","v":8},{"$f":"+I40*R40","v":30},{"$f":"SUM(T40:U40)","v":38}]
[null,{"$f":"+B40","v":"Ago-Dic"},{"$f":"+C40","v":"Módulo 2"},{"$f":"+\"UD \"&(MID(D40,3,20)*1+1)","v":"UD 2"},"Asistencia al usuario con patologías",4,"Especificas",4,6,{"$f":"SUM(H41:I41)","v":10},"Lic en enfermeria","Formacion AH",null,60,30,10,{"$f":"IF(O41>0,ROUNDUP(N41/O41,0),0)","v":2},{"$f":"IF(P41>0,ROUNDUP(N41/P41,0),0)","v":6},null,8,36,{"$f":"SUM(T41:U41)","v":44}]
[null,{"$f":"+B41","v":"Ago-Dic"},{"$f":"+C41","v":"Módulo 2"},"UD 3","Procedimientos invasivos y no invasivos",4,"Especificas",4,6,10,"Lic en enfermeria","Formacion AH",null,60,30,10,2,6,null,8,36,44]
[null,{"$f":"+B42","v":"Ago-Dic"},"Módulo 2","UD 4","Asistencia al usuario quirúrgico",5,"Especificas",6,8,{"$f":"SUM(H43:I43)","v":14},"Lic en enfermeria","Formacion CQ",null,60,30,10,{"$f":"IF(O43>0,ROUNDUP(N43/O43,0),0)","v":2},{"$f":"IF(P43>0,ROUNDUP(N43/P43,0),0)","v":6},null,{"$f":"+H43*Q43","v":12},{"$f":"+I43*R43","v":48},{"$f":"SUM(T43:U43)","v":60}]
[null,{"$f":"+B43","v":"Ago-Dic"},"Módulo 2","UD 5","Innovación tecnológica",2,"Empleabilidad",2,3,{"$f":"SUM(H44:I44)","v":5},"Lic en educacion","Investigaciones",null,60,30,30,{"$f":"IF(O44>0,ROUNDUP(N44/O44,0),0)","v":2},{"$f":"IF(P44>0,ROUNDUP(N44/P44,0),0)","v":2},null,{"$f":"+H44*Q44","v":4},{"$f":"+I44*R44","v":6},{"$f":"SUM(T44:U44)","v":10}]
[null,{"$f":"+B44","v":"Ago-Dic"},"Módulo 2","UD 6","Comprensión y redacción en inglés",1,"Empleabilidad",2,2,{"$f":"SUM(H45:I45)","v":4},"Lic en educacion","Ingles",null,60,30,30,{"$f":"IF(O45>0,ROUNDUP(N45/O45,0),0)","v":2},{"$f":"IF(P45>0,ROUNDUP(N45/P45,0),0)","v":2},null,{"$f":"+H45*Q45","v":4},{"$f":"+I45*R45","v":4},{"$f":"SUM(T45:U45)","v":8}]
[null,null,null,{"$f":"+\"Sub total \"&C39","v":"Sub total "},null,{"$f":"+SUMIFS(F:F,$C:$C,MID($D46,11,8))","v":0},null,{"$f":"+SUMIFS(H:H,$C:$C,MID($D46,11,8))","v":0},{"$f":"+SUMIFS(I:I,$C:$C,MID($D46,11,8))","v":0},{"$f":"+SUMIFS(J:J,$C:$C,MID($D46,11,8))","v":0}," - "," - ",null,{"$f":"+SUMIFS(N:N,$C:$C,MID($D46,11,8))","v":0},null,null,{"$f":"+SUMIFS(Q:Q,$C:$C,MID($D46,11,8))","v":0},{"$f":"+SUMIFS(R:R,$C:$C,MID($D46,11,8))","v":0},null,{"$f":"+SUMIFS(T:T,$C:$C,MID($D46,11,8))","v":0},{"$f":"+SUMIFS(U:U,$C:$C,MID($D46,11,8))","v":0},{"$f":"+SUMIFS(V:V,$C:$C,MID($D46,11,8))","v":0}]
[null,"Ago-Dic","Módulo 3",{"$f":"+\"UD \"&1","v":"UD 1"},"Asistencia en fisioterapia y rehabilitación",4,"Especificas",4,6,{"$f":"SUM(H47:I47)","v":10},"Lic en enfermeria","Formacion FR",null,30,30,10,{"$f":"IF(O47>0,ROUNDUP(N47/O47,0),0)","v":1},{"$f":"IF(P47>0,ROUNDUP(N47/P47,0),0)","v":3},null,{"$f":"+H47*Q47","v":4},{"$f":"+I47*R47","v":18},{"$f":"SUM(T47:U47)","v":22}]
[null,{"$f":"+B47","v":"Ago-Dic"},{"$f":"+C47","v":"Módulo 3"},{"$f":"+\"UD \"&(MID(D47,3,20)*1+1)","v":"UD 2"},"Asistencia en salud bucal",5,"Especificas",2,6,{"$f":"SUM(H48:I48)","v":8},"Lic en enfermeria","Formacion SB",null,30,30,10,{"$f":"IF(O48>0,ROUNDUP(N48/O48,0),0)","v":1},{"$f":"IF(P48>0,ROUNDUP(N48/P48,0),0)","v":3},null,2,18,{"$f":"SUM(T48:U48)","v":20}]
[null,{"$f":"+B48","v":"Ago-Dic"},{"$f":"+C48","v":"Módulo 3"},"UD 3","Asistencia en medicina alternativa",4,"Especificas",6,7,13,"Lic en enfermeria","Formacion MA",null,30,30,10,1,3,null,6,21,27]
[null,{"$f":"+B49","v":"Ago-Dic"},"Módulo 3","UD 4","Asistencia al usuario oncológico",4,"Especificas",4,6,{"$f":"SUM(H50:I50)","v":10},"Lic en enfermeria","Formacion Oncol.",null,30,30,10,{"$f":"IF(O50>0,ROUNDUP(N50/O50,0),0)","v":1},{"$f":"IF(P50>0,ROUNDUP(N50/P50,0),0)","v":3},null,{"$f":"+H50*Q50","v":4},{"$f":"+I50*R50","v":18},{"$f":"SUM(T50:U50)","v":22}]
[null,{"$f":"+B50","v":"Ago-Dic"},"Módulo 3","UD 5","Plan de negocios",1,"Empleabilidad",2,2,{"$f":"SUM(H51:I51)","v":4},"Economista","Formacion negocios",null,30,0,30,{"$f":"IF(O51>0,ROUNDUP(N51/O51,0),0)","v":0},{"$f":"IF(P51>0,ROUNDUP(N51/P51,0),0)","v":1},null,{"$f":"+H51*Q51","v":0},{"$f":"+I51*R51","v":2},{"$f":"SUM(T51:U51)","v":2}]
[null,{"$f":"+B51","v":"Ago-Dic"},"Módulo 3","UD 6","Resolución de problemas",1,"Empleabilidad",2,3,{"$f":"SUM(H52:I52)","v":5},"Lic Educacion","Resolucion problemas",null,30,30,30,{"$f":"IF(O52>0,ROUNDUP(N52/O52,0),0)","v":1},{"$f":"IF(P52>0,ROUNDUP(N52/P52,0),0)","v":1},null,{"$f":"+H52*Q52","v":2},{"$f":"+I52*R52","v":3},{"$f":"SUM(T52:U52)","v":5}]
[null,null,null,{"$f":"+\"Sub total \"&C46","v":"Sub total "},null,{"$f":"+SUMIFS(F:F,$C:$C,MID($D53,11,8))","v":0},null,{"$f":"+SUMIFS(H:H,$C:$C,MID($D53,11,8))","v":0},{"$f":"+SUMIFS(I:I,$C:$C,MID($D53,11,8))","v":0},{"$f":"+SUMIFS(J:J,$C:$C,MID($D53,11,8))","v":0}," - "," - ",null,{"$f":"+SUMIFS(N:N,$C:$C,MID($D53,11,8))","v":0},null,null,{"$f":"+SUMIFS(Q:Q,$C:$C,MID($D53,11,8))","v":0},{"$f":"+SUMIFS(R:R,$C:$C,MID($D53,11,8))","v":0},null,{"$f":"+SUMIFS(T:T,$C:$C,MID($D53,11,8))","v":0},{"$f":"+SUMIFS(U:U,$C:$C,MID($D53,11,8))","v":0},{"$f":"+SUMIFS(V:V,$C:$C,MID($D53,11,8))","v":0}]

{"sheet":"B","index":1,"n_rows":53,"n_cols":24,"rows_kept":53,"cut":false,"hidden":false,"merged":[[48,19,48,20],[51,19,51,20],[52,19,52,20],[36,19,36,20],[37,19,37,20],[38,19,38,20],[39,19,39,20],[40,19,40,20],[41,19,41,20],[42,19,42,20],[43,19,43,20],[44,19,44,20],[30,19,30,20],[31,19,31,20],[32,19,32,20],[33,19,33,20],[34,19,34,20],[35,19,35,20],[45,19,45,20],[46,19,46,20],[47,19,47,20],[52,17,52,18],[7,19,7,20],[8,19,8,20],[9,19,9,20],[10,19,10,20],[11,19,11,20],[12,19,12,20],[13,19,13,20],[14,19,14,20],[15,19,15,20],[16,19,16,20],[17,19,17,20],[18,19,18,20],[19,19,19,20],[20,19,20,20],[21,19,21,20],[22,19,22,20],[23,19,23,20],[24,19,24,20],[25,19,25,20],[26,19,26,20],[27,19,27,20],[28,19,28,20],[29,19,29,20],[41,17,41,18],[42,17,42,18],[43,17,43,18],[44,17,44,18],[45,17,45,18],[46,17,46,18],[47,17,47,18],[48,17,48,18],[51,17,51,18],[32,17,32,18],[33,17,33,18],[34,17,34,18],[35,17,35,18],[36,17,36,18],[37,17,37,18],[38,17,38,18],[39,17,39,18],[40,17,40,18],[23,17,23,18],[24,17,24,18],[25,17,25,18],[26,17,26,18],[27,17,27,18],[28,17,28,18],[29,17,29,18],[30,17,30,18],[31,17,31,18],[14,17,14,18],[15,17,15,18],[16,17,16,18],[17,17,17,18],[18,17,18,18],[19,17,19,18],[20,17,20,18],[21,17,21,18],[22,17,22,18],[42,15,42,16],[43,15,43,16],[44,15,44,16],[45,15,45,16],[46,15,46,16],[47,15,47,16],[48,15,48,16],[51,15,51,16],[52,15,52,16],[33,15,33,16],[34,15,34,16],[35,15,35,16],[36,15,36,16],[37,15,37,16],[38,15,38,16],[39,15,39,16],[40,15,40,16],[41,15,41,16],[24,15,24,16],[25,15,25,16],[26,15,26,16],[27,15,27,16],[28,15,28,16],[29,15,29,16],[30,15,30,16],[31,15,31,16],[32,15,32,16],[44,13,44,14],[45,13,45,14],[46,13,46,14],[47,13,47,14],[48,13,48,14],[51,13,51,14],[52,13,52,14],[7,15,7,16],[8,15,8,16],[9,15,9,16],[10,15,10,16],[11,15,11,16],[12,15,12,16],[13,15,13,16],[14,15,14,16],[15,15,15,16],[16,15,16,16],[17,15,17,16],[18,15,18,16],[19,15,19,16],[20,15,20,16],[21,15,21,16],[22,15,22,16],[23,15,23,16],[35,13,35,14],[36,13,36,14],[37,13,37,14],[38,13,38,14],[39,13,39,14],[40,13,40,14],[41,13,41,14],[42,13,42,14],[43,13,43,14],[26,13,26,14],[27,13,27,14],[28,13,28,14],[29,13,29,14],[30,13,30,14],[31,13,31,14],[32,13,32,14],[33,13,33,14],[34,13,34,14],[51,9,51,10],[51,11,51,12],[52,7,52,8],[52,9,52,10],[52,11,52,12],[7,13,7,14],[8,13,8,14],[9,13,9,14],[10,13,10,14],[11,13,11,14],[12,13,12,14],[13,13,13,14],[14,13,14,14],[15,13,15,14],[16,13,16,14],[17,13,17,14],[18,13,18,14],[19,13,19,14],[20,13,20,14],[21,13,21,14],[22,13,22,14],[23,13,23,14],[24,13,24,14],[25,13,25,14],[51,1,52,3],[1,1,1,5],[8,7,8,8],[7,7,7,8],[9,7,9,8],[2,1,5,1],[51,7,51,8],[13,2,13,3],[13,7,13,8],[2,2,5,2],[2,3,5,3],[2,5,5,5],[2,4,5,4],[10,7,10,8],[11,7,11,8],[12,7,12,8],[20,2,20,3],[20,7,20,8],[21,7,21,8],[28,7,28,8],[35,7,35,8],[42,7,42,8],[48,2,48,3],[48,7,48,8],[9,9,9,10],[9,11,9,12],[13,9,13,10],[13,11,13,12],[11,9,11,10],[11,11,11,12],[12,9,12,10],[1,22,1,23],[7,11,7,12],[8,11,8,12],[7,9,7,10],[8,9,8,10],[2,22,5,22],[2,23,5,23],[10,9,10,10],[10,11,10,12],[7,17,7,18],[8,17,8,18],[9,17,9,18],[10,17,10,18],[11,17,11,18],[12,17,12,18],[13,17,13,18],[17,9,17,10],[17,11,17,12],[18,7,18,8],[18,9,18,10],[18,11,18,12],[19,7,19,8],[19,9,19,10],[19,11,19,12],[12,11,12,12],[14,7,14,8],[14,9,14,10],[14,11,14,12],[15,7,15,8],[15,9,15,10],[15,11,15,12],[21,9,21,10],[21,11,21,12],[22,7,22,8],[22,9,22,10],[22,11,22,12],[16,7,16,8],[16,9,16,10],[16,11,16,12],[27,2,27,3],[27,7,27,8],[27,9,27,10],[27,11,27,12],[24,7,24,8],[24,9,24,10],[24,11,24,12],[25,7,25,8],[25,9,25,10],[25,11,25,12],[26,7,26,8],[26,9,26,10],[26,11,26,12],[20,9,20,10],[20,11,20,12],[17,7,17,8],[28,9,28,10],[28,11,28,12],[29,7,29,8],[29,9,29,10],[29,11,29,12],[23,7,23,8],[23,9,23,10],[23,11,23,12],[34,2,34,3],[34,7,34,8],[34,9,34,10],[34,11,34,12],[31,7,31,8],[31,9,31,10],[31,11,31,12],[32,7,32,8],[32,9,32,10],[32,11,32,12],[33,7,33,8],[33,9,33,10],[33,11,33,12],[35,9,35,10],[35,11,35,12],[36,7,36,8],[36,9,36,10],[36,11,36,12],[30,7,30,8],[30,9,30,10],[30,11,30,12],[41,2,41,3],[41,7,41,8],[41,9,41,10],[41,11,41,12],[38,7,38,8],[38,9,38,10],[38,11,38,12],[39,7,39,8],[39,9,39,10],[39,11,39,12],[40,7,40,8],[40,9,40,10],[40,11,40,12],[42,9,42,10],[42,11,42,12],[43,7,43,8],[43,9,43,10],[43,11,43,12],[37,7,37,8],[37,9,37,10],[37,11,37,12],[44,7,44,8],[44,9,44,10],[44,11,44,12],[48,9,48,10],[48,11,48,12],[45,7,45,8],[45,9,45,10],[45,11,45,12],[46,7,46,8],[46,9,46,10],[46,11,46,12],[47,7,47,8],[47,9,47,10],[47,11,47,12]]}
[null,null,{"$f":"+C3","v":"Módulo formativo asociado"},"Unidad Didáctica","Nombre de Unidad Didáctica (UD)","Carga lectiva requerida",0,"Nombre:","CARMEN ROSA CRISOSTOMO ELESCANO","Nombre:","TEODOLINDA JUANA ORIHUELA BENITO","Nombre:","ANGELICA GRACIELA MANTARI BUENDIA",{"$f":"+N3","v":"Nombre:"},"NORMA YOLANDA CONDOR LAZO",{"$f":"+P3","v":"Nombre:"},"LUCY AMELIA CARDENAS ILLESCAS",{"$f":"+R3","v":"Nombre:"},"JESUS ROBERTO GUTIERREZ  CANGAHUALA ",{"$f":"+T3","v":"Nombre:"},"PERCY EDGAR ROJAS HUANQUI",0,"Horas distribuidas",{"$f":"+X3","v":"Necesidad de horas"}]
[null,"Plan de estudios",null,null,null,null,null,"Docentes de Carrera Pública",null,null,null,null,null,null,null,null,null,null,null,null,null,null,"Resultado "]
[null,"Periodo académico","Módulo formativo asociado","Unidad Didáctica","Nombre de Unidad Didáctica (UD)","Carga lectiva requerida",null,"Nombre:","CARMEN ROSA CRISOSTOMO ELESCANO","Nombre:","TEODOLINDA JUANA ORIHUELA BENITO","Nombre:","ANGELICA GRACIELA MANTARI BUENDIA","Nombre:","NORMA YOLANDA CONDOR LAZO","Nombre:","LUCY AMELIA CARDENAS ILLESCAS","Nombre:","JESUS ROBERTO GUTIERREZ  CANGAHUALA ","Nombre:","PERCY EDGAR ROJAS HUANQUI",null,"Horas distribuidas","Necesidad de horas"]
[null,null,null,null,null,null,null,"DNI N°",19926825,"DNI N°",20640096,"DNI N°",19959386,"DNI N°",20041828,"DNI N°",21252068,"DNI N°",20429212,"DNI N°",23271260]
[null,null,null,null,null,null,null,"Área de desempeño ","DOCENTE","Área de desempeño ","DOCENTE","Área de desempeño ","DOCENTE","Área de desempeño ","DOCENTE","Área de desempeño ","DOCENTE","Área de desempeño ","DOCENTE","Área de desempeño ","DOCENTE"]
[null,null,null,null,null,null,null,"Jornada laboral:",40,"Jornada laboral:",40,"Jornada laboral:",40,"Jornada laboral:",40,"Jornada laboral:",40,"Jornada laboral:",40,"Jornada laboral:",40]
[null,null,null,null,null,null,null,"xxxx","xxxx","xxxx","xxxx","xxxx","xxxx","xxxx","xxxx","xxxx","xxxx","xxxx","xxxx","xxxx","xxxx",null,"(Suma de carga lectiva distribuida por UD)","(Carga lectiva requerida -Horas Distribuidas)"]
[null,{"$f":"+A!B12","v":"Mar-Jul"},{"$f":"+A!C12","v":"Módulo 1"},{"$f":"+\"UD \"&1","v":"UD 1"},{"$f":"+A!E12","v":"Salud comunitaria y familiar"},{"$f":"+A!V12","v":30},{"$f":"+B8&\"_\"&C8&\"_\"&D8","v":"Mar-Jul_Módulo 1_UD 1"},null,null,null,null,null,null,null,null,8,null,null,null,null,null,null,{"$f":"SUM(H8:M8)","v":0},{"$f":"F8-W8","v":30}]
[null,{"$f":"+A!B13","v":"Mar-Jul"},{"$f":"+A!C13","v":"Módulo 1"},{"$f":"+\"UD \"&(MID(D8,3,20)*1+1)","v":"UD 2"},{"$f":"+A!E13","v":"Tecnicas de comunicación en salud"},{"$f":"+A!V13","v":20},{"$f":"+B9&\"_\"&C9&\"_\"&D9","v":"Mar-Jul_Módulo 1_UD 2"},null,null,5,null,null,null,null,null,null,null,null,null,null,null,"a",{"$f":"SUM(H9:M9)","v":5},{"$f":"F9-W9","v":15}]
[null,{"$f":"+A!B14","v":"Mar-Jul"},{"$f":"+A!C14","v":"Módulo 1"},{"$f":"+\"UD \"&(MID(D9,3,20)*1+1)","v":"UD 3"},{"$f":"+A!E14","v":"Anatomia funcional"},{"$f":"+A!V14","v":20},"Mar-Jul_Módulo 1_UD 3",null,null,null,null,6,null,null,null,null,null,null,null,null,null,"b",6,14]
[null,{"$f":"+A!B15","v":"Mar-Jul"},{"$f":"+A!C15","v":"Módulo 1"},{"$f":"+\"UD \"&(MID(D10,3,20)*1+1)","v":"UD 4"},{"$f":"+A!E15","v":"Primeros auxilios"},{"$f":"+A!V15","v":4},{"$f":"+B11&\"_\"&C11&\"_\"&D11","v":"Mar-Jul_Módulo 1_UD 4"}]
[null,{"$f":"+A!B16","v":"Mar-Jul"},{"$f":"+A!C16","v":"Módulo 1"},{"$f":"+\"UD \"&(MID(D11,3,20)*1+1)","v":"UD 5"},{"$f":"+A!E16","v":"Comunicación oral"},{"$f":"+A!V16","v":4},{"$f":"+B12&\"_\"&C12&\"_\"&D12","v":"Mar-Jul_Módulo 1_UD 5"}]
[null,{"$f":"+A!B17","v":"Mar-Jul"},{"$f":"+A!C17","v":"Módulo 1"},{"$f":"+\"UD \"&(MID(D12,3,20)*1+1)","v":"UD 6"},{"$f":"+A!E17","v":"Ofimatica"},{"$f":"+A!V17","v":4},{"$f":"+B13&\"_\"&C13&\"_\"&D13","v":"Mar-Jul_Módulo 1_UD 6"}]
[null,null,{"$f":"+A!D18","v":"Sub total Módulo 1"},null,null,{"$f":"SUM(F8:F10)","v":70},"_Sub total Módulo 1_",{"$f":"SUM(H8:I10)","v":0},null,{"$f":"SUM(J8:K10)","v":5},null,{"$f":"SUM(L8:M10)","v":6},null,{"$f":"SUM(N8:O10)","v":0},null,{"$f":"SUM(P8:Q10)","v":8},null,{"$f":"SUM(R8:S10)","v":0},null,{"$f":"SUM(T8:U10)","v":0},null,"c"]
[null,{"$f":"+A!B19","v":"Mar-Jul"},{"$f":"+A!C19","v":"Módulo 2"},{"$f":"+\"UD \"&1","v":"UD 1"},{"$f":"+A!E19","v":"Asistencia al usuario ambulatorio y hospitalizado"},{"$f":"+A!V19","v":48},{"$f":"+B15&\"_\"&C15&\"_\"&D15","v":"Mar-Jul_Módulo 2_UD 1"},null,null,8,null,null,null,8,null,null,null,null,null,null,null,null,{"$f":"SUM(H15:M15)","v":8},{"$f":"F15-W15","v":40}]
[null,{"$f":"+A!B20","v":"Mar-Jul"},{"$f":"+A!C20","v":"Módulo 2"},{"$f":"+\"UD \"&(MID(D15,3,20)*1+1)","v":"UD 2"},{"$f":"+A!E20","v":"Muestras biologicas"},{"$f":"+A!V20","v":32},{"$f":"+B16&\"_\"&C16&\"_\"&D16","v":"Mar-Jul_Módulo 2_UD 2"},null,null,null,null,null,null,10,null,null,null,null,null,null,null,"a",{"$f":"SUM(H16:M16)","v":0},{"$f":"F16-W16","v":32}]
[null,{"$f":"+A!B21","v":"Mar-Jul"},{"$f":"+A!C21","v":"Módulo 2"},{"$f":"+\"UD \"&(MID(D16,3,20)*1+1)","v":"UD 3"},{"$f":"+A!E21","v":"Bioseguridad y esterilizacion"},{"$f":"+A!V21","v":32},"Mar-Jul_Módulo 2_UD 3",null,null,5,null,null,null,null,null,5,null,null,null,null,null,"b",5,27]
[null,{"$f":"+A!B22","v":"Mar-Jul"},{"$f":"+A!C22","v":"Módulo 2"},{"$f":"+\"UD \"&(MID(D17,3,20)*1+1)","v":"UD 4"},{"$f":"+A!E22","v":"Asistencia en la administracion de medicamentos"},{"$f":"+A!V22","v":32},{"$f":"+B18&\"_\"&C18&\"_\"&D18","v":"Mar-Jul_Módulo 2_UD 4"},6,null,null,null,6]
[null,{"$f":"+A!B23","v":"Mar-Jul"},{"$f":"+A!C23","v":"Módulo 2"},{"$f":"+\"UD \"&(MID(D18,3,20)*1+1)","v":"UD 5"},{"$f":"+A!E23","v":"Fundamentos de investigacion e innovacion tecnologica"},{"$f":"+A!V23","v":8},{"$f":"+B19&\"_\"&C19&\"_\"&D19","v":"Mar-Jul_Módulo 2_UD 5"},null,null,null,null,null,null,null,null,3]
[null,{"$f":"+A!B24","v":"Mar-Jul"},{"$f":"+A!C24","v":"Módulo 2"},{"$f":"+\"UD \"&(MID(D19,3,20)*1+1)","v":"UD 6"},{"$f":"+A!E24","v":"Ingles para la comunicación oral"},{"$f":"+A!V24","v":8},{"$f":"+B20&\"_\"&C20&\"_\"&D20","v":"Mar-Jul_Módulo 2_UD 6"},null,null,null,null,null,null,null,null,null,null,null,null,3]
[null,null,{"$f":"+A!D25","v":"Sub total "},null,null,{"$f":"SUM(F12:F14)","v":78},"_Sub total _",{"$f":"SUM(H12:I14)","v":0},null,{"$f":"SUM(J12:K14)","v":5},null,{"$f":"SUM(L12:M14)","v":6},null,{"$f":"SUM(N12:O14)","v":0},null,{"$f":"SUM(P12:Q14)","v":8},null,{"$f":"SUM(R12:S14)","v":0},null,{"$f":"SUM(T12:U14)","v":0},null,"c"]
[null,{"$f":"+A!B26","v":"Mar-Jul"},{"$f":"+A!C26","v":"Módulo 3"},{"$f":"+\"UD \"&1","v":"UD 1"},{"$f":"+A!E26","v":"Asistencia en salud materna"},{"$f":"+A!V26","v":22},{"$f":"+B22&\"_\"&C22&\"_\"&D22","v":"Mar-Jul_Módulo 3_UD 1"},null,null,null,null,6,null,null,null,null,null,null,null,null,null,null,{"$f":"SUM(H22:M22)","v":6},{"$f":"F22-W22","v":16}]
[null,{"$f":"+A!B27","v":"Mar-Jul"},{"$f":"+A!C27","v":"Módulo 3"},{"$f":"+\"UD \"&(MID(D22,3,20)*1+1)","v":"UD 2"},{"$f":"+A!E27","v":"Asistencia del niño y adolescente"},{"$f":"+A!V27","v":22},{"$f":"+B23&\"_\"&C23&\"_\"&D23","v":"Mar-Jul_Módulo 3_UD 2"},6,null,null,null,null,null,null,null,null,null,null,null,null,null,"a",{"$f":"SUM(H23:M23)","v":6},{"$f":"F23-W23","v":16}]
[null,{"$f":"+A!B28","v":"Mar-Jul"},{"$f":"+A!C28","v":"Módulo 3"},{"$f":"+\"UD \"&(MID(D23,3,20)*1+1)","v":"UD 3"},{"$f":"+A!E28","v":"Asistencia al adulto mayor"},{"$f":"+A!V28","v":22},"Mar-Jul_Módulo 3_UD 3",6,null,null,null,null,null,null,null,null,null,null,null,null,null,"b",6,16]
[null,{"$f":"+A!B29","v":"Mar-Jul"},{"$f":"+A!C29","v":"Módulo 3"},{"$f":"+\"UD \"&(MID(D24,3,20)*1+1)","v":"UD 4"},{"$f":"+A!E29","v":"Asistencia en salud mental"},{"$f":"+A!V29","v":22},{"$f":"+B25&\"_\"&C25&\"_\"&D25","v":"Mar-Jul_Módulo 3_UD 4"}]
[null,{"$f":"+A!B30","v":"Mar-Jul"},{"$f":"+A!C30","v":"Módulo 3"},{"$f":"+\"UD \"&(MID(D25,3,20)*1+1)","v":"UD 5"},{"$f":"+A!E30","v":"Comportamiento etico"},{"$f":"+A!V30","v":5},{"$f":"+B26&\"_\"&C26&\"_\"&D26","v":"Mar-Jul_Módulo 3_UD 5"},null,null,null,null,null,null,null,null,3]
[null,{"$f":"+A!B31","v":"Mar-Jul"},{"$f":"+A!C31","v":"Módulo 3"},{"$f":"+\"UD \"&(MID(D26,3,20)*1+1)","v":"UD 6"},{"$f":"+A!E31","v":"Oportunidades de negocio"},{"$f":"+A!V31","v":5},{"$f":"+B27&\"_\"&C27&\"_\"&D27","v":"Mar-Jul_Módulo 3_UD 6"},null,null,null,null,null,null,null,null,null,null,3]
[null,null,{"$f":"+A!D32","v":"Sub total "},null,null,{"$f":"SUM(F19:F21)","v":94},"_Sub total _",{"$f":"SUM(H19:I21)","v":0},null,{"$f":"SUM(J19:K21)","v":5},null,{"$f":"SUM(L19:M21)","v":6},null,{"$f":"SUM(N19:O21)","v":0},null,{"$f":"SUM(P19:Q21)","v":11},null,{"$f":"SUM(R19:S21)","v":0},null,{"$f":"SUM(T19:U21)","v":3},null,"c"]
[null,{"$f":"+A!B33","v":"Ago-Dic"},{"$f":"+A!C33","v":"Módulo 1"},{"$f":"+\"UD \"&1","v":"UD 1"},{"$f":"+A!E33","v":"Salud Pública"},{"$f":"+A!V33","v":38},{"$f":"+B29&\"_\"&C29&\"_\"&D29","v":"Ago-Dic_Módulo 1_UD 1"},null,null,null,null,null,null,8,null,null,null,null,null,null,null,null,{"$f":"SUM(H29:M29)","v":0},{"$f":"F29-W29","v":38}]
[null,{"$f":"+A!B34","v":"Ago-Dic"},{"$f":"+A!C34","v":"Módulo 1"},{"$f":"+\"UD \"&(MID(D29,3,20)*1+1)","v":"UD 2"},{"$f":"+A!E34","v":"Actividades en Epidemiología y vigilancia activa"},{"$f":"+A!V34","v":28},{"$f":"+B30&\"_\"&C30&\"_\"&D30","v":"Ago-Dic_Módulo 1_UD 2"},null,null,6,null,null,null,null,null,null,null,null,null,null,null,"a",{"$f":"SUM(H30:M30)","v":6},{"$f":"F30-W30","v":22}]
[null,{"$f":"+A!B35","v":"Ago-Dic"},{"$f":"+A!C35","v":"Módulo 1"},{"$f":"+\"UD \"&(MID(D30,3,20)*1+1)","v":"UD 3"},{"$f":"+A!E35","v":"Asistencia en Salud Ocupacional"},{"$f":"+A!V35","v":24},"Ago-Dic_Módulo 1_UD 3",null,null,null,null,null,null,null,null,null,null,null,null,null,null,"b",0,24]
[null,{"$f":"+A!B36","v":"Ago-Dic"},{"$f":"+A!C36","v":"Módulo 1"},{"$f":"+\"UD \"&(MID(D31,3,20)*1+1)","v":"UD 4"},{"$f":"+A!E36","v":"Asistencia en Inmunizaciones"},{"$f":"+A!V36","v":34},{"$f":"+B32&\"_\"&C32&\"_\"&D32","v":"Ago-Dic_Módulo 1_UD 4"},7]
[null,{"$f":"+A!B37","v":"Ago-Dic"},{"$f":"+A!C37","v":"Módulo 1"},{"$f":"+\"UD \"&(MID(D32,3,20)*1+1)","v":"UD 5"},{"$f":"+A!E37","v":"Interpretación y redacción de textos"},{"$f":"+A!V37","v":2},{"$f":"+B33&\"_\"&C33&\"_\"&D33","v":"Ago-Dic_Módulo 1_UD 5"},null,null,null,null,null,null,8]
[null,{"$f":"+A!B38","v":"Ago-Dic"},{"$f":"+A!C38","v":"Módulo 1"},{"$f":"+\"UD \"&(MID(D33,3,20)*1+1)","v":"UD 6"},{"$f":"+A!E38","v":"Aplicaciones en internet"},{"$f":"+A!V38","v":4},{"$f":"+B34&\"_\"&C34&\"_\"&D34","v":"Ago-Dic_Módulo 1_UD 6"}]
[null,null,{"$f":"+A!D39","v":"Sub total "},null,null,{"$f":"SUM(F26:F28)","v":104},"_Sub total _",{"$f":"SUM(H26:I28)","v":0},null,{"$f":"SUM(J26:K28)","v":5},null,{"$f":"SUM(L26:M28)","v":6},null,{"$f":"SUM(N26:O28)","v":0},null,{"$f":"SUM(P26:Q28)","v":14},null,{"$f":"SUM(R26:S28)","v":3},null,{"$f":"SUM(T26:U28)","v":3},null,"c"]
[null,{"$f":"+A!B40","v":"Ago-Dic"},{"$f":"+A!C40","v":"Módulo 2"},{"$f":"+\"UD \"&1","v":"UD 1"},{"$f":"+A!E40","v":"Asistencia en nutrición y dietas"},{"$f":"+A!V40","v":38},{"$f":"+B36&\"_\"&C36&\"_\"&D36","v":"Ago-Dic_Módulo 2_UD 1"},5,null,5,null,null,null,null,null,null,null,null,null,null,null,null,{"$f":"SUM(H36:M36)","v":10},{"$f":"F36-W36","v":28}]
[null,{"$f":"+A!B41","v":"Ago-Dic"},{"$f":"+A!C41","v":"Módulo 2"},{"$f":"+\"UD \"&(MID(D36,3,20)*1+1)","v":"UD 2"},{"$f":"+A!E41","v":"Asistencia al usuario con patologías"},{"$f":"+A!V41","v":44},{"$f":"+B37&\"_\"&C37&\"_\"&D37","v":"Ago-Dic_Módulo 2_UD 2"},null,null,null,null,6,null,6,null,null,null,null,null,null,null,"a",{"$f":"SUM(H37:M37)","v":6},{"$f":"F37-W37","v":38}]
[null,{"$f":"+A!B42","v":"Ago-Dic"},{"$f":"+A!C42","v":"Módulo 2"},{"$f":"+\"UD \"&(MID(D37,3,20)*1+1)","v":"UD 3"},{"$f":"+A!E42","v":"Procedimientos invasivos y no invasivos"},{"$f":"+A!V42","v":44},"Ago-Dic_Módulo 2_UD 3",null,null,null,null,6,null,6,null,null,null,null,null,null,null,"b",6,38]
[null,{"$f":"+A!B43","v":"Ago-Dic"},{"$f":"+A!C43","v":"Módulo 2"},{"$f":"+\"UD \"&(MID(D38,3,20)*1+1)","v":"UD 4"},{"$f":"+A!E43","v":"Asistencia al usuario quirúrgico"},{"$f":"+A!V43","v":60},{"$f":"+B39&\"_\"&C39&\"_\"&D39","v":"Ago-Dic_Módulo 2_UD 4"},null,null,null,null,null,null,null,null,16]
[null,{"$f":"+A!B44","v":"Ago-Dic"},{"$f":"+A!C44","v":"Módulo 2"},{"$f":"+\"UD \"&(MID(D39,3,20)*1+1)","v":"UD 5"},{"$f":"+A!E44","v":"Innovación tecnológica"},{"$f":"+A!V44","v":10},{"$f":"+B40&\"_\"&C40&\"_\"&D40","v":"Ago-Dic_Módulo 2_UD 5"},null,null,null,null,null,null,null,null,3]
[null,{"$f":"+A!B45","v":"Ago-Dic"},{"$f":"+A!C45","v":"Módulo 2"},{"$f":"+\"UD \"&(MID(D40,3,20)*1+1)","v":"UD 6"},{"$f":"+A!E45","v":"Comprensión y redacción en inglés"},{"$f":"+A!V45","v":8},{"$f":"+B41&\"_\"&C41&\"_\"&D41","v":"Ago-Dic_Módulo 2_UD 6"},null,null,null,null,null,null,null,null,null,null,null,null,4]
[null,null,{"$f":"+A!D46","v":"Sub total "},null,null,{"$f":"SUM(F33:F35)","v":110},"_Sub total _",{"$f":"SUM(H33:I35)","v":0},null,{"$f":"SUM(J33:K35)","v":5},null,{"$f":"SUM(L33:M35)","v":6},null,{"$f":"SUM(N33:O35)","v":8},null,{"$f":"SUM(P33:Q35)","v":14},null,{"$f":"SUM(R33:S35)","v":3},null,{"$f":"SUM(T33:U35)","v":3},null,"c"]
[null,{"$f":"+A!B47","v":"Ago-Dic"},{"$f":"+A!C47","v":"Módulo 3"},{"$f":"+\"UD \"&1","v":"UD 1"},{"$f":"+A!E47","v":"Asistencia en fisioterapia y rehabilitación"},{"$f":"+A!V47","v":22},{"$f":"+B43&\"_\"&C43&\"_\"&D43","v":"Ago-Dic_Módulo 3_UD 1"},6,null,null,null,null,null,null,null,null,null,null,null,null,null,null,{"$f":"SUM(H43:M43)","v":6},{"$f":"F43-W43","v":16}]
[null,{"$f":"+A!B48","v":"Ago-Dic"},{"$f":"+A!C48","v":"Módulo 3"},{"$f":"+\"UD \"&(MID(D43,3,20)*1+1)","v":"UD 2"},{"$f":"+A!E48","v":"Asistencia en salud bucal"},{"$f":"+A!V48","v":20},{"$f":"+B44&\"_\"&C44&\"_\"&D44","v":"Ago-Dic_Módulo 3_UD 2"},null,null,null,null,null,null,null,null,null,null,null,null,null,null,"a",{"$f":"SUM(H44:M44)","v":0},{"$f":"F44-W44","v":20}]
[null,{"$f":"+A!B49","v":"Ago-Dic"},{"$f":"+A!C49","v":"Módulo 3"},{"$f":"+\"UD \"&(MID(D44,3,20)*1+1)","v":"UD 3"},{"$f":"+A!E49","v":"Asistencia en medicina alternativa"},{"$f":"+A!V49","v":27},"Ago-Dic_Módulo 3_UD 3",null,null,7,null,null,null,null,null,null,null,null,null,null,null,"b",7,20]
[null,{"$f":"+A!B50","v":"Ago-Dic"},{"$f":"+A!C50","v":"Módulo 3"},{"$f":"+\"UD \"&(MID(D45,3,20)*1+1)","v":"UD 4"},{"$f":"+A!E50","v":"Asistencia al usuario oncológico"},{"$f":"+A!V50","v":22},{"$f":"+B46&\"_\"&C46&\"_\"&D46","v":"Ago-Dic_Módulo 3_UD 4"},null,null,null,null,6]
[null,{"$f":"+A!B51","v":"Ago-Dic"},{"$f":"+A!C51","v":"Módulo 3"},{"$f":"+\"UD \"&(MID(D46,3,20)*1+1)","v":"UD 5"},{"$f":"+A!E51","v":"Plan de negocios"},{"$f":"+A!V51","v":2},{"$f":"+B47&\"_\"&C47&\"_\"&D47","v":"Ago-Dic_Módulo 3_UD 5"},null,null,null,null,null,null,null,null,null,null,2]
[null,{"$f":"+A!B52","v":"Ago-Dic"},{"$f":"+A!C52","v":"Módulo 3"},{"$f":"+\"UD \"&(MID(D47,3,20)*1+1)","v":"UD 6"},{"$f":"+A!E52","v":"Resolución de problemas"},{"$f":"+A!V52","v":5},{"$f":"+B48&\"_\"&C48&\"_\"&D48","v":"Ago-Dic_Módulo 3_UD 6"}]
[null,null,{"$f":"+A!D53","v":"Sub total "},null,null,{"$f":"SUM(F40:F42)","v":128},"_Sub total _",{"$f":"SUM(H40:I42)","v":0},null,{"$f":"SUM(J40:K42)","v":5},null,{"$f":"SUM(L40:M42)","v":6},null,{"$f":"SUM(N40:O42)","v":8},null,{"$f":"SUM(P40:Q42)","v":17},null,{"$f":"SUM(R40:S42)","v":3},null,{"$f":"SUM(T40:U42)","v":7},null,"c"]
[]
[]
[null,"Periodo académico",null,null,"Mar-Jul",{"$f":"+SUMIFS(F:F,$B:$B,$E52)","v":340},{"$f":"+#REF!&\"_\"&B52&\"_\"&D52","v":{"$error":"#REF!"}},{"$f":"+SUMIFS(H:H,$B:$B,$E52)","v":18},null,{"$f":"+SUMIFS(J:J,$B:$B,$E52)","v":18},null,{"$f":"+SUMIFS(L:L,$B:$B,$E52)","v":18},null,{"$f":"+SUMIFS(N:N,$B:$B,$E52)","v":18},null,{"$f":"+SUMIFS(P:P,$B:$B,$E52)","v":19},null,{"$f":"+SUMIFS(R:R,$B:$B,$E52)","v":3},null,{"$f":"+SUMIFS(T:T,$B:$B,$E52)","v":3},null,null,{"$f":"+SUMIFS(W:W,$B:$B,$E52)","v":42},{"$f":"+SUMIFS(X:X,$B:$B,$E52)","v":206}]
[null,null,null,null,"Ago-Dic",{"$f":"+SUMIFS(F:F,$B:$B,$E53)","v":432},{"$f":"+B53&\"_\"&C53&\"_\"&D53","v":"__"},{"$f":"+SUMIFS(H:H,$B:$B,$E53)","v":18},null,{"$f":"+SUMIFS(J:J,$B:$B,$E53)","v":18},null,{"$f":"+SUMIFS(L:L,$B:$B,$E53)","v":18},null,{"$f":"+SUMIFS(N:N,$B:$B,$E53)","v":28},null,{"$f":"+SUMIFS(P:P,$B:$B,$E53)","v":19},null,{"$f":"+SUMIFS(R:R,$B:$B,$E53)","v":2},null,{"$f":"+SUMIFS(T:T,$B:$B,$E53)","v":4},null,null,{"$f":"+SUMIFS(W:W,$B:$B,$E53)","v":41},{"$f":"+SUMIFS(X:X,$B:$B,$E53)","v":244}]

{"sheet":"C","index":2,"n_rows":36,"n_cols":22,"rows_kept":36,"cut":false,"hidden":false,"merged":[[23,17,23,18],[24,17,24,18],[25,17,25,18],[26,17,26,18],[32,15,32,16],[8,17,8,18],[9,17,9,18],[10,17,10,18],[11,17,11,18],[12,17,12,18],[13,17,13,18],[14,17,14,18],[15,17,15,18],[16,17,16,18],[17,17,17,18],[20,17,20,18],[21,17,21,18],[23,15,23,16],[24,15,24,16],[25,15,25,16],[26,15,26,16],[27,15,27,16],[27,17,27,18],[28,17,28,18],[29,17,29,18],[31,17,31,18],[32,17,32,18],[22,17,22,18],[29,13,29,14],[31,13,31,14],[32,13,32,14],[8,15,8,16],[9,15,9,16],[10,15,10,16],[11,15,11,16],[12,15,12,16],[13,15,13,16],[14,15,14,16],[15,15,15,16],[16,15,16,16],[17,15,17,16],[20,15,20,16],[21,15,21,16],[22,15,22,16],[24,13,24,14],[25,13,25,14],[26,13,26,14],[27,13,27,14],[28,13,28,14],[28,15,28,16],[29,15,29,16],[31,15,31,16],[31,11,31,12],[32,11,32,12],[8,13,8,14],[9,13,9,14],[10,13,10,14],[11,13,11,14],[12,13,12,14],[13,13,13,14],[14,13,14,14],[15,13,15,14],[16,13,16,14],[17,13,17,14],[20,13,20,14],[21,13,21,14],[22,13,22,14],[23,13,23,14],[25,11,25,12],[26,11,26,12],[27,11,27,12],[28,11,28,12],[29,11,29,12],[20,11,20,12],[21,11,21,12],[22,11,22,12],[23,11,23,12],[24,11,24,12],[13,11,13,12],[14,11,14,12],[15,11,15,12],[16,11,16,12],[17,11,17,12],[16,7,16,8],[16,9,16,10],[27,1,27,2],[15,1,15,2],[15,9,15,10],[26,7,26,8],[26,9,26,10],[27,7,27,8],[27,9,27,10],[29,1,29,2],[17,1,17,2],[27,5,27,6],[29,5,29,6],[26,5,26,6],[23,5,23,6],[24,5,24,6],[25,5,25,6],[16,1,16,2],[28,1,28,2],[28,5,28,6],[28,7,28,8],[28,9,28,10],[6,0,29,0],[14,9,14,10],[8,7,8,8],[8,9,8,10],[7,1,7,3],[19,1,19,3],[8,5,8,6],[9,5,9,6],[10,5,10,6],[11,5,11,6],[12,5,12,6],[13,5,13,6],[14,5,14,6],[13,7,13,8],[13,9,13,10],[15,7,15,8],[29,7,29,8],[29,9,29,10],[25,7,25,8],[25,9,25,10],[24,7,24,8],[24,9,24,10],[32,7,32,8],[32,9,32,10],[31,0,31,3],[31,5,31,6],[31,7,31,8],[31,9,31,10],[32,0,32,3],[32,5,32,6],[14,7,14,8],[15,5,15,6],[23,7,23,8],[23,9,23,10],[22,7,22,8],[22,9,22,10],[17,5,17,6],[20,5,20,6],[21,5,21,6],[22,5,22,6],[17,9,17,10],[21,9,21,10],[17,7,17,8],[21,7,21,8],[20,7,20,8],[20,9,20,10],[1,20,1,21],[2,1,5,2],[2,3,5,3],[2,20,5,20],[2,21,5,21],[1,1,1,3],[10,7,10,8],[10,9,10,10],[12,7,12,8],[12,9,12,10],[9,7,9,8],[9,9,9,10],[11,7,11,8],[11,9,11,10],[8,11,8,12],[9,11,9,12],[10,11,10,12],[11,11,11,12],[12,11,12,12]]}
[null,"CUADRO C: DISTRIBUCIÓN DE HORAS PEDAGÓGICAS NO LECTIVAS"]
[null,"Acciones a implementar para el logro de los objetivos institucionales",null,null,null,"Docentes ",null,null,null,null,null,null,null,null,null,null,null,null,null,null,"Resultado "]
[null,"Tipo de carga no lectiva ",null,"Carga  no lectiva requerida",null,"Nombre:",{"$f":"B!I3","v":"CARMEN ROSA CRISOSTOMO ELESCANO"},"Nombre:",{"$f":"B!K3","v":"TEODOLINDA JUANA ORIHUELA BENITO"},"Nombre:",{"$f":"B!M3","v":"ANGELICA GRACIELA MANTARI BUENDIA"},"Nombre:",{"$f":"B!O3","v":"NORMA YOLANDA CONDOR LAZO"},"Nombre:",{"$f":"B!Q3","v":"LUCY AMELIA CARDENAS ILLESCAS"},"Nombre:",{"$f":"B!S3","v":"JESUS ROBERTO GUTIERREZ  CANGAHUALA "},"Nombre:",{"$f":"B!U3","v":"PERCY EDGAR ROJAS HUANQUI"},null,"Horas distribuidas","Necesidad de horas"]
[null,null,null,null,null,"DNI N°",{"$f":"B!I4","v":19926825},"DNI N°",{"$f":"B!K4","v":20640096},"DNI N°",{"$f":"B!M4","v":19959386},"DNI N°",{"$f":"B!O4","v":20041828},"DNI N°",{"$f":"B!Q4","v":21252068},"DNI N°",{"$f":"B!S4","v":20429212},"DNI N°",{"$f":"B!U4","v":23271260}]
[null,null,null,null,null,"Área de desempeño ",{"$f":"B!I5","v":"DOCENTE"},"Área de desempeño ",{"$f":"B!K5","v":"DOCENTE"},"Área de desempeño ",{"$f":"B!M5","v":"DOCENTE"},"Área de desempeño ",{"$f":"B!O5","v":"DOCENTE"},"Área de desempeño ",{"$f":"B!Q5","v":"DOCENTE"},"Área de desempeño ",{"$f":"B!S5","v":"DOCENTE"},"Área de desempeño ",{"$f":"B!U5","v":"DOCENTE"}]
[null,null,null,null,null,"Jornada laboral:",{"$f":"B!I6","v":40},"Jornada laboral:",{"$f":"B!K6","v":40},"Jornada laboral:",{"$f":"B!M6","v":40},"Jornada laboral:",{"$f":"B!O6","v":40},"Jornada laboral:",{"$f":"B!Q6","v":40},"Jornada laboral:",{"$f":"B!S6","v":40},"Jornada laboral:",{"$f":"B!U6","v":40}]
["DISTRIBUCIÓN DE HORAS NO LECTIVAS Y DE GESTIÓN PEDAGÓGICA",null,"Periodo académico Marzo- Julio ",null,null,null,null,null,null,null,null,null,null,null,null,null,null,null,null,null,"Suma de carga no lectiva distribuida por actividad","(Carga no lectiva requerida) - (Horas distribuidas)"]
[null,"Actividades no lectivas",null,null,null,"Horas por asignar: ",{"$f":"G6-B!H52","v":22},"Horas por asignar: ",{"$f":"I6-B!J52","v":22},"Horas por asignar: ",{"$f":"K6-B!L52","v":22},"Horas por asignar: ",{"$f":"M6-B!N52","v":22},"Horas por asignar: ",{"$f":"O6-B!P52","v":21},"Horas por asignar: ",{"$f":"Q6-B!R52","v":37},"Horas por asignar: ",{"$f":"S6-B!T52","v":37}]
[null,"Diseño y desarrollo Académico",null,null,null,5,null,5,null,5,null,5,null,5,null,null,null,null,null,null,{"$f":"SUM(F9:O9)","v":25},{"$f":"D9-U9","v":-25}]
[null,"Desarrollo institucional",null,null,null,5,null,5,null,5,null,5,null,4,null,null,null,null,null,null,{"$f":"SUM(F10:O10)","v":24},{"$f":"D10-U10","v":-24}]
[null,"Estrategias de articulación con el sector productivo",null,null,null,null,null,null,null,7,null,null,null,null,null,null,null,null,null,null,{"$f":"SUM(F11:K11)","v":7},-7]
[null,"Investigación e innovación",null,null,null,7,null,null,null,null,null,null,null,null,null,null,null,null,null,null,7,-7]
[null,"Preparación de clase",null,null,null,5,null,5,null,5,null,5,null,5,null,null,null,null,null,null,{"$f":"SUM(F13:O13)","v":25},-25]
[null,"Seguimiento y servicios de apoyo al estudiante y egresado",null,null,null,null,null,7,null,null,null,null,null,null,null,null,null,null,null,null,7,-7]
[null,"Supervisión de experiencias formativas en situaciones reales de trabajo ",null,null,null,null,null,null,null,null,null,null,null,7,null,null,null,null,null,null,0,0]
[null,"Otras actividades relacionadas a los programas de estudios ",null,null,null,null,null,null,null," ",null,7,null," ",null," ",null," ",null,null,0,0]
[null,"Actividades de gestión pedagógica",null,null,null,null,null,null,null,null,null,null,null,null,null,null,null,null,null,null,0,0]
[null,"Sub Total ",null,{"$f":"SUM(D9:D17)","v":0},null,{"$f":"+SUM(F9:G17)","v":22},null,{"$f":"+SUM(H9:I17)","v":22},null,{"$f":"+SUM(J9:K17)","v":22},null,22,null,{"$f":"+SUM(N9:O17)","v":21},null,0,null,{"$f":"+SUM(R9:S17)","v":0},null,null,{"$f":"SUM(U9:U17)","v":95},{"$f":"SUM(V9:V17)","v":-95}]
[null,null,"Periodo académico Agosto - Diciembre "]
[null,"Actividades no lectivas",null,null,null,"Horas por asignar: ",{"$f":"G6-B!H53","v":22},"Horas por asignar: ",{"$f":"I6-B!J53","v":22},"Horas por asignar: ",{"$f":"K6-B!L53","v":22},"Horas por asignar: ",{"$f":"M6-B!N53","v":12},"Horas por asignar: ",{"$f":"O6-B!P53","v":21},"Horas por asignar: ",{"$f":"Q6-B!R53","v":38},"Horas por asignar: ",{"$f":"S6-B!T53","v":36}]
[null,"Diseño y desarrollo Académico",null,null,null,5,null,5,null,5,null,4,null,5,null,null,null,null,null,null,{"$f":"SUM(F21:O21)","v":24},{"$f":"D21-U21","v":-24}]
[null,"Desarrollo institucional",null,null,null,5,null,5,null,5,null,4,null,4,null,null,null,null,null,null,{"$f":"SUM(F22:O22)","v":23},{"$f":"D22-U22","v":-23}]
[null,"Estrategias de articulación con el sector productivo",null,null,null,null,null,null,null,7,null,null,null,null,null,null,null,null,null,null,{"$f":"SUM(F23:K23)","v":7},-7]
[null,"Investigación e innovación",null,null,null,7,null,null,null,null,null,null,null,null,null,null,null,null,null,null,7,-7]
[null,"Preparación de clase",null,null,null,5,null,5,null,5,null,5,null,5,null,null,null,null,null,null,{"$f":"SUM(F25:O25)","v":25},-25]
[null,"Seguimiento y servicios de apoyo al estudiante y egresado",null,null,null,null,null,7,null,null,null,null,null,null,null,null,null,null,null,null,7,-7]
[null,"Supervisión de experiencias formativas en situaciones reales de trabajo ",null,null,null,null,null,null,null,null,null,null,null,7,null,null,null,null,null,null,0,0]
[null,"Otras actividades relacionadas a los programas de estudios ",null,null,null,null,null,null,null,null,null,7,null,null,null,null,null,null,null,null,0,0]
[null,"Actividades de gestión pedagógica",null,null,null,null,null,null,null,null,null,null,null,null,null,null,null,null,null,null,0,{"$f":"D29-U29","v":0}]
[null,"Sub Total ",null,{"$f":"+SUM(D21:D29)","v":0},null,{"$f":"+SUM(F21:G29)","v":22},null,{"$f":"+SUM(H21:I29)","v":22},null,{"$f":"+SUM(J21:K29)","v":22},null,20,null,{"$f":"+SUM(N21:O29)","v":21},null,0,null,{"$f":"+SUM(R21:S29)","v":0},null,null,{"$f":"SUM(U21:U29)","v":93},{"$f":"SUM(V21:V29)","v":-93}]
[]
["HORAS NO DISTRIBUIDAS  EN EL PERIODO ACADÉMICO MARZO-JULIO ",null,null,null,null,{"$f":"G8-F18","v":0},null,{"$f":"I8-H18","v":0},null,{"$f":"K8-J18","v":0},null,{"$f":"M8-L18","v":0},null,{"$f":"O8-N18","v":0},null,{"$f":"Q8-P18","v":37},null,{"$f":"S8-R18","v":37},null,null,{"$f":"SUM(U13:U31)","v":313},{"$f":"SUM(V13:V31)","v":-313}]
["HORAS NO DISTRIBUIDAS  EN EL PERIODO ACADÉMICO AGOSTO-DICIEMBRE ",null,null,null,null,{"$f":"G20-F30","v":0},null,{"$f":"I20-H30","v":0},null,{"$f":"K20-J30","v":0},null,{"$f":"M20-L30","v":-8},null,{"$f":"O20-N30","v":0},null,{"$f":"Q20-P30","v":38},null,{"$f":"S20-R30","v":36},null,null,{"$f":"SUM(U14:U32)","v":601},{"$f":"SUM(V14:V32)","v":-601}]
[]
[null,"*","Especificar:_______________________________________________"]
[null,"**","Directores y Responsables de unidad, área y secretaría académica"]

{"sheet":"D","index":3,"n_rows":60,"n_cols":15,"rows_kept":60,"cut":false,"hidden":false,"merged":[[58,1,59,3],[2,6,2,7],[2,1,4,1],[2,2,4,2],[2,3,4,3],[2,4,4,4],[41,2,41,4],[2,14,4,14],[2,13,4,13],[2,5,4,5],[3,6,4,6],[3,7,4,7]]}
[null,"CUADRO D: DETERMINACIÓN DE LAS POSICIONES VACANTES"]
[null,"Plan de estudios",null,null,null,null,null,null,null,"Posiciones Vacantes ",null,null,null,"                                       Resultado "]
[null,"Periodo académico","Módulo formativo asociado","Unidad Didáctica","Nombre de Unidad Didáctica (UD)","Necesidad de horas","Perfil Docente",null,null,"Posición  1",{"$f":"+\"Posición  \"&(MID(J3,9,20)*1+1)","v":"Posición  2"},{"$f":"+\"Posición  \"&(MID(K3,9,20)*1+1)","v":"Posición  3"},null,"Carga lectiva y no lectiva distribuida","Horas  no distribuidas"]
[null,null,null,null,null,null,"Formación Académica ","Experiencia específica",null,"Jornada laboral:","Jornada laboral:","Jornada laboral:"]
[]
[null,null,"Distribución de horas lectivas",null,null,null,null,null,null,"xxxx","xxxx","xxxx",null,"Suma de carga distribuida por actividad","(Necesidad de horas) - (Suma de carga distribuida por UD o actividad)"]
[null,"Mar-Jul","Módulo 1","UD 4",{"$f":"+IFERROR(OFFSET(B!$E$7,MATCH($I7,B!$G$8:$G$4978,0),0,1,1),\"Sin Datos\")","v":"Primeros auxilios"},{"$f":"+IFERROR(OFFSET(B!$E$7,MATCH($I7,B!$G$8:$G$4978,0),MATCH($F$3,B!$B$1:$AAX$1,0)-4,1,1),E7)","v":0},"Lic. Enfermeria","Formacion PA",{"$f":"+B7&\"_\"&C7&\"_\"&D7","v":"Mar-Jul_Módulo 1_UD 4"},6,null,null,null,{"$f":"SUM(J7:L7)","v":6},{"$f":"F7-N7","v":-6}]
[null,{"$f":"+B7","v":"Mar-Jul"},{"$f":"+C7","v":"Módulo 1"},"UD 5",{"$f":"+IFERROR(OFFSET(B!$E$7,MATCH($I8,B!$G$8:$G$4978,0),0,1,1),\"Sin Datos\")","v":"Comunicación oral"},{"$f":"+IFERROR(OFFSET(B!$E$7,MATCH($I8,B!$G$8:$G$4978,0),MATCH($F$3,B!$B$1:$AAX$1,0)-4,1,1),E8)","v":0},"Lic.pedagogia","Formacion CO",{"$f":"+B8&\"_\"&C8&\"_\"&D8","v":"Mar-Jul_Módulo 1_UD 5"},null,null,3,null,{"$f":"SUM(J8:L8)","v":3},{"$f":"F8-N8","v":-3}]
[null,{"$f":"+B8","v":"Mar-Jul"},{"$f":"+C8","v":"Módulo 1"},"UD 6",{"$f":"+IFERROR(OFFSET(B!$E$7,MATCH($I9,B!$G$8:$G$4978,0),0,1,1),\"Sin Datos\")","v":"Ofimatica"},{"$f":"+IFERROR(OFFSET(B!$E$7,MATCH($I9,B!$G$8:$G$4978,0),MATCH($F$3,B!$B$1:$AAX$1,0)-4,1,1),E9)","v":0},"Lic.en computacion","Formacion OF","Mar-Jul_Módulo 1_UD 6",null,null,2,null,2,-2]
[null,null,{"$f":"+\"Sub total \"&C9","v":"Sub total Módulo 1"},null,null,null,null,null,"_Sub total Módulo 1_","xxxx","xxxx","xxxx"]
[null,"Mar-Jul","Módulo 2","UD 5",{"$f":"+IFERROR(OFFSET(B!$E$7,MATCH($I11,B!$G$8:$G$4978,0),0,1,1),\"Sin Datos\")","v":"Fundamentos de investigacion e innovacion tecnologica"},{"$f":"+IFERROR(OFFSET(B!$E$7,MATCH($I11,B!$G$8:$G$4978,0),MATCH($F$3,B!$B$1:$AAX$1,0)-4,1,1),E11)","v":0},"Lic.pedagogia"," INVESTIGACIONES",{"$f":"+B11&\"_\"&C11&\"_\"&D11","v":"Mar-Jul_Módulo 2_UD 5"},null,null,3,null,{"$f":"SUM(J11:L11)","v":3},{"$f":"F11-N11","v":-3}]
[null,{"$f":"+B11","v":"Mar-Jul"},{"$f":"+C11","v":"Módulo 2"},"UD 5",{"$f":"+IFERROR(OFFSET(B!$E$7,MATCH($I12,B!$G$8:$G$4978,0),0,1,1),\"Sin Datos\")","v":"Fundamentos de investigacion e innovacion tecnologica"},{"$f":"+IFERROR(OFFSET(B!$E$7,MATCH($I12,B!$G$8:$G$4978,0),MATCH($F$3,B!$B$1:$AAX$1,0)-4,1,1),E12)","v":0},null,null,{"$f":"+B12&\"_\"&C12&\"_\"&D12","v":"Mar-Jul_Módulo 2_UD 5"},null,null,null,null,{"$f":"SUM(J12:L12)","v":0},{"$f":"F12-N12","v":0}]
[null,{"$f":"+B12","v":"Mar-Jul"},{"$f":"+C12","v":"Módulo 2"},"UD 5",{"$f":"+IFERROR(OFFSET(B!$E$7,MATCH($I13,B!$G$8:$G$4978,0),0,1,1),\"Sin Datos\")","v":"Fundamentos de investigacion e innovacion tecnologica"},{"$f":"+IFERROR(OFFSET(B!$E$7,MATCH($I13,B!$G$8:$G$4978,0),MATCH($F$3,B!$B$1:$AAX$1,0)-4,1,1),E13)","v":0},null,null,"Mar-Jul_Módulo 2_UD 5",null,null,null,null,0,0]
[null,null,{"$f":"+\"Sub total \"&C13","v":"Sub total Módulo 2"},null,null,null,null,null,"_Sub total Módulo 2_","xxxx","xxxx","xxxx"]
[null,"Mar-Jul","Módulo 3","UD 4",{"$f":"+IFERROR(OFFSET(B!$E$7,MATCH($I15,B!$G$8:$G$4978,0),0,1,1),\"Sin Datos\")","v":"Asistencia en salud mental"},{"$f":"+IFERROR(OFFSET(B!$E$7,MATCH($I15,B!$G$8:$G$4978,0),MATCH($F$3,B!$B$1:$AAX$1,0)-4,1,1),E15)","v":0},null,null,{"$f":"+B15&\"_\"&C15&\"_\"&D15","v":"Mar-Jul_Módulo 3_UD 4"},null,null,null,null,{"$f":"SUM(J15:L15)","v":0},{"$f":"F15-N15","v":0}]
[null,{"$f":"+B15","v":"Mar-Jul"},{"$f":"+C15","v":"Módulo 3"},"UD 4",{"$f":"+IFERROR(OFFSET(B!$E$7,MATCH($I16,B!$G$8:$G$4978,0),0,1,1),\"Sin Datos\")","v":"Asistencia en salud mental"},{"$f":"+IFERROR(OFFSET(B!$E$7,MATCH($I16,B!$G$8:$G$4978,0),MATCH($F$3,B!$B$1:$AAX$1,0)-4,1,1),E16)","v":0},"Lic. Enfermeria","Formacion SM",{"$f":"+B16&\"_\"&C16&\"_\"&D16","v":"Mar-Jul_Módulo 3_UD 4"},null,6,null,null,{"$f":"SUM(J16:L16)","v":6},{"$f":"F16-N16","v":-6}]
[null,{"$f":"+B16","v":"Mar-Jul"},{"$f":"+C16","v":"Módulo 3"},"UD 6",{"$f":"+IFERROR(OFFSET(B!$E$7,MATCH($I17,B!$G$8:$G$4978,0),0,1,1),\"Sin Datos\")","v":"Oportunidades de negocio"},{"$f":"+IFERROR(OFFSET(B!$E$7,MATCH($I17,B!$G$8:$G$4978,0),MATCH($F$3,B!$B$1:$AAX$1,0)-4,1,1),E17)","v":0},"Economista","For. negocios","Mar-Jul_Módulo 3_UD 6",null,null,null,null,0,0]
[null,null,{"$f":"+\"Sub total \"&C17","v":"Sub total Módulo 3"},null,null,null,null,null,"_Sub total Módulo 3_","xxxx","xxxx","xxxx"]
[null,"Ago-Dic","Módulo 1","UD 3",{"$f":"+IFERROR(OFFSET(B!$E$7,MATCH($I19,B!$G$8:$G$4978,0),0,1,1),\"Sin Datos\")","v":"Asistencia en Salud Ocupacional"},{"$f":"+IFERROR(OFFSET(B!$E$7,MATCH($I19,B!$G$8:$G$4978,0),MATCH($F$3,B!$B$1:$AAX$1,0)-4,1,1),E19)","v":24},null,null,{"$f":"+B19&\"_\"&C19&\"_\"&D19","v":"Ago-Dic_Módulo 1_UD 3"},null,null,null,null,{"$f":"SUM(J19:L19)","v":0},{"$f":"F19-N19","v":24}]
[null,{"$f":"+B19","v":"Ago-Dic"},"Módulo 1","UD 3",{"$f":"+IFERROR(OFFSET(B!$E$7,MATCH($I20,B!$G$8:$G$4978,0),0,1,1),\"Sin Datos\")","v":"Asistencia en Salud Ocupacional"},{"$f":"+IFERROR(OFFSET(B!$E$7,MATCH($I20,B!$G$8:$G$4978,0),MATCH($F$3,B!$B$1:$AAX$1,0)-4,1,1),E20)","v":24},"Lic. Enfermeria","Formacion SO",{"$f":"+B20&\"_\"&C20&\"_\"&D20","v":"Ago-Dic_Módulo 1_UD 3"},null,5,null,null,{"$f":"SUM(J20:L20)","v":5},{"$f":"F20-N20","v":19}]
[null,"Ago-Dic","Módulo 1","UD 5",{"$f":"+IFERROR(OFFSET(B!$E$7,MATCH($I21,B!$G$8:$G$4978,0),0,1,1),\"Sin Datos\")","v":"Interpretación y redacción de textos"},{"$f":"+IFERROR(OFFSET(B!$E$7,MATCH($I21,B!$G$8:$G$4978,0),MATCH($F$3,B!$B$1:$AAX$1,0)-4,1,1),E21)","v":0},"Lic.pedagogia","Formacion RT","Ago-Dic_Módulo 1_UD 5",null,null,2,null,2,-2]
[null,"Ago-Dic","Módulo 1","UD 6",{"$f":"+IFERROR(OFFSET(B!$E$7,MATCH($I22,B!$G$8:$G$4978,0),0,1,1),\"Sin Datos\")","v":"Aplicaciones en internet"},{"$f":"+IFERROR(OFFSET(B!$E$7,MATCH($I22,B!$G$8:$G$4978,0),MATCH($F$3,B!$B$1:$AAX$1,0)-4,1,1),E22)","v":0},"Lic.en computacion","Formacion COP.",{"$f":"+B22&\"_\"&C22&\"_\"&D22","v":"Ago-Dic_Módulo 1_UD 6"},null,null,2,null,{"$f":"SUM(J22:L22)","v":2},{"$f":"F22-N22","v":-2}]
[null,null,{"$f":"+\"Sub total \"&C21","v":"Sub total Módulo 1"},null,null,null,null,null,"_Sub total Módulo 1_","xxxx","xxxx","xxxx"]
[null,"Ago-Dic","Módulo 2","UD 5",{"$f":"+IFERROR(OFFSET(B!$E$7,MATCH($I24,B!$G$8:$G$4978,0),0,1,1),\"Sin Datos\")","v":"Innovación tecnológica"},{"$f":"+IFERROR(OFFSET(B!$E$7,MATCH($I24,B!$G$8:$G$4978,0),MATCH($F$3,B!$B$1:$AAX$1,0)-4,1,1),E24)","v":0},null,null,{"$f":"+B24&\"_\"&C24&\"_\"&D24","v":"Ago-Dic_Módulo 2_UD 5"},null,null,null,null,{"$f":"SUM(J24:L24)","v":0},{"$f":"F24-N24","v":0}]
[null,{"$f":"+B24","v":"Ago-Dic"},{"$f":"+C24","v":"Módulo 2"},"UD 5",{"$f":"+IFERROR(OFFSET(B!$E$7,MATCH($I25,B!$G$8:$G$4978,0),0,1,1),\"Sin Datos\")","v":"Innovación tecnológica"},{"$f":"+IFERROR(OFFSET(B!$E$7,MATCH($I25,B!$G$8:$G$4978,0),MATCH($F$3,B!$B$1:$AAX$1,0)-4,1,1),E25)","v":0},"Lic.en Educacion","investigaciones",{"$f":"+B25&\"_\"&C25&\"_\"&D25","v":"Ago-Dic_Módulo 2_UD 5"},null,null,3,null,{"$f":"SUM(J25:L25)","v":3},{"$f":"F25-N25","v":-3}]
[null,{"$f":"+B25","v":"Ago-Dic"},{"$f":"+C25","v":"Módulo 2"},"UD 6",{"$f":"+IFERROR(OFFSET(B!$E$7,MATCH($I26,B!$G$8:$G$4978,0),0,1,1),\"Sin Datos\")","v":"Comprensión y redacción en inglés"},{"$f":"+IFERROR(OFFSET(B!$E$7,MATCH($I26,B!$G$8:$G$4978,0),MATCH($F$3,B!$B$1:$AAX$1,0)-4,1,1),E26)","v":0},null,null,"Ago-Dic_Módulo 2_UD 6",null,null,null,null,0,0]
[null,null,{"$f":"+\"Sub total \"&C26","v":"Sub total Módulo 2"},null,null,null,null,null,"_Sub total Módulo 2_","xxxx","xxxx","xxxx"]
[null,"Ago-Dic","Módulo 3","UD 2",{"$f":"+IFERROR(OFFSET(B!$E$7,MATCH($I28,B!$G$8:$G$4978,0),0,1,1),\"Sin Datos\")","v":"Asistencia en salud bucal"},{"$f":"+IFERROR(OFFSET(B!$E$7,MATCH($I28,B!$G$8:$G$4978,0),MATCH($F$3,B!$B$1:$AAX$1,0)-4,1,1),E28)","v":20},"Lic. Enfermeria","Formacion SB",{"$f":"+B28&\"_\"&C28&\"_\"&D28","v":"Ago-Dic_Módulo 3_UD 2"},6,null,null,null,{"$f":"SUM(J28:L28)","v":6},{"$f":"F28-N28","v":14}]
[null,{"$f":"+B28","v":"Ago-Dic"},{"$f":"+C28","v":"Módulo 3"},"UD 5",{"$f":"+IFERROR(OFFSET(B!$E$7,MATCH($I29,B!$G$8:$G$4978,0),0,1,1),\"Sin Datos\")","v":"Plan de negocios"},{"$f":"+IFERROR(OFFSET(B!$E$7,MATCH($I29,B!$G$8:$G$4978,0),MATCH($F$3,B!$B$1:$AAX$1,0)-4,1,1),E29)","v":0},"Economista","For. Negocios",{"$f":"+B29&\"_\"&C29&\"_\"&D29","v":"Ago-Dic_Módulo 3_UD 5"},null,null,null,null,{"$f":"SUM(J29:L29)","v":0},{"$f":"F29-N29","v":0}]
[null,{"$f":"+B29","v":"Ago-Dic"},{"$f":"+C29","v":"Módulo 3"},"UD 6",{"$f":"+IFERROR(OFFSET(B!$E$7,MATCH($I30,B!$G$8:$G$4978,0),0,1,1),\"Sin Datos\")","v":"Resolución de problemas"},{"$f":"+IFERROR(OFFSET(B!$E$7,MATCH($I30,B!$G$8:$G$4978,0),MATCH($F$3,B!$B$1:$AAX$1,0)-4,1,1),E30)","v":0},"Lic.en Educacion","Res. de problemas","Ago-Dic_Módulo 3_UD 6",null,null,3,null,3,-3]
[null,null,{"$f":"+\"Sub total \"&C30","v":"Sub total Módulo 3"},null,null,null,null,null,"_Sub total Módulo 3_","xxxx","xxxx","xxxx"]
[]
[null,null,null,"Distribución de horas no lectivas y de gestión pedagógica",null,null,null,null,"__Distribución de horas no lectivas y de gestión pedagógica"]
[null,"Mar-Jul","Diseño y desarrollo Académico",null,null,{"$f":"'C'!V9","v":-25},"-","-",null,null,null,null,null,{"$f":"SUM(J34:L34)","v":0},{"$f":"F34-N34","v":-25}]
[null,"Mar-Jul","Desarrollo institucional",null,null,{"$f":"'C'!V10","v":-24},"-","-",null,null,null,null,null,{"$f":"SUM(J35:L35)","v":0},{"$f":"F35-N35","v":-24}]
[null,"Mar-Jul","Estrategias de articulación con el sector productivo",null,null,{"$f":"'C'!V11","v":-7},"-","-",null,null,null,null,null,0,-7]
[null,"Mar-Jul","Investigación e innovación",null,null,{"$f":"'C'!V12","v":-7},"-","-",null,null,null,null,null,0,-7]
[null,"Mar-Jul","Preparación de clase",null,null,{"$f":"'C'!V13","v":-25},"-","-",null,2,2,null,null,4,-29]
[null,"Mar-Jul","Seguimiento y servicios de apoyo al estudiante y egresado",null,null,{"$f":"'C'!V14","v":-7},"-","-",null,null,null,null,null,0,-7]
[null,"Mar-Jul","Supervisión de experiencias formativas en situaciones reales de trabajo ",null,null,{"$f":"'C'!V15","v":0},"-","-",null,null,null,null,null,0,0]
[null,"Mar-Jul","Otras actividades relacionadas a los programas de estudios ",null,null,{"$f":"'C'!V16","v":0},"-","-",null,null,null,null,null,0,0]
[null,"Mar-Jul","Gestión Pedagógica",null,null,{"$f":"'C'!V17","v":0},"-","-",null,32,32,null,null,64,-64]
[null,null,null," TOTAL DE HORAS NO LECTIVAS Y DE GESTIÓN PEDAGÓGICA",null,null,null,null,null,{"$f":"+SUM(J34:J42)","v":34},34,{"$f":"+SUM(L34:L41)","v":0}]
[]
[null,null,null,"Distribución de horas no lectivas y de gestión pedagógica"]
[null,"Ago-Dic","Diseño y desarrollo Académico",null,null,{"$f":"'C'!V21","v":-24},"-","-",null,null,null,null,null,{"$f":"SUM(J46:L46)","v":0},{"$f":"F46-N46","v":-24}]
[null,"Ago-Dic","Desarrollo institucional",null,null,{"$f":"'C'!V22","v":-23},"-","-",null,null,null,null,null,{"$f":"SUM(J47:L47)","v":0},{"$f":"F47-N47","v":-23}]
[null,"Ago-Dic","Estrategias de articulación con el sector productivo",null,null,{"$f":"'C'!V23","v":-7},"-","-",null,null,null,null,null,{"$f":"SUM(J48:L48)","v":0},-7]
[null,"Ago-Dic","Investigación e innovación",null,null,{"$f":"'C'!V24","v":-7},"-","-",null,null,null,null,null,0,-7]
[null,"Ago-Dic","Preparación de clase",null,null,{"$f":"'C'!V25","v":-25},"-","-",null,2,2,null,null,4,-29]
[null,"Ago-Dic","Seguimiento y servicios de apoyo al estudiante y egresado",null,null,{"$f":"'C'!V26","v":-7},"-","-",null,null,null,null,null,0,-7]
[null,"Ago-Dic","Supervisión de experiencias formativas en situaciones reales de trabajo ",null,null,{"$f":"'C'!V27","v":0},"-","-",null,null,null,null,null,0,0]
[null,"Ago-Dic","Otras actividades relacionadas a los programas de estudios ",null,null,{"$f":"'C'!V28","v":0},"-","-",null,null,null," ",null,0,0]
[null,"Ago-Dic","Gestión Pedagógica",null,null,{"$f":"'C'!V29","v":0},"-","-",null,32,33,null,null,65,-65]
[null,null,null," TOTAL DE HORAS NO LECTIVAS Y DE GESTIÓN PEDAGÓGICA",null,null,null,null,null,{"$f":"+SUM(J46:J54)","v":34},35,{"$f":"+SUM(L46:L53)","v":0}]
[]
[]
[]
[null,"Periodo académico",null,null,"Mar-Jul","Jornada laboral de la posición vacante",null,null,{"$f":"+#REF!&\"_\"&B59&\"_\"&D59","v":{"$error":"#REF!"}},{"$f":"+SUMIFS(J:J,$B:$B,$E59)","v":40},40,8]
[null,null,null,null,"Ago-Dic","Jornada laboral de la posición vacante",null,null,{"$f":"+B60&\"_\"&C60&\"_\"&D60","v":"__"},40,40,10]

{"sheet":"E","index":4,"n_rows":18,"n_cols":28,"rows_kept":18,"cut":false,"hidden":false,"merged":[[4,4,4,15],[5,26,6,27],[4,16,4,27],[2,1,3,27],[4,3,7,3],[6,4,6,5],[6,6,6,7],[6,8,6,9],[6,16,6,17],[6,18,6,19],[6,20,6,21],[5,4,5,9],[5,16,5,21],[4,1,4,2],[5,1,7,1],[5,2,7,2],[5,10,6,13],[5,22,6,25],[5,14,6,15]]}
[]
[]
[null,"CUADRO E: RESUMEN  DE POSICIONES VACANTES"]
[]
[null,"Perfil Docente",null,"Jornada laboral:","Periodo académico Marzo - Julio",null,null,null,null,null,null,null,null,null,null,null,"Periodo académico Agosto - Diciembre"]
[null,"Formación Académica","Experiencia específica",null,"Carga lectiva",null,null,null,null,null,"Carga  no lectiva",null,null,null,"Gestión Pedagógica",null,"Carga lectiva",null,null,null,null,null,"Carga  no lectiva",null,null,null,"Gestión Pedagógica"]
[null,null,null,null,"UD 1",null,"UD 2",null,"UD 3",null,null,null,null,null,null,null,"UD 1",null,"UD 2",null,"UD 3"]
[null,null,null,null,"Nombre","Horas ","Nombre","Horas ","Nombre","Horas ","Actividad 1","Actividad 2","Actividad 3","Actividad 4","Puesto","Horas ","Nombre","Horas ","Nombre","Horas ","Nombre","Horas ","Actividad 1","Actividad 2","Actividad 3","Actividad 4","Puesto","Horas "]
["Posición  1"]
["Posición  2"]
["Posición  3"]
["Posición  4"]
["Posición  5"]
["Posición  6"]
["Posición  7"]
["Posición  8"]
["Posición  9"]
["Posición  10"]

{"sheet":"Maestros","index":5,"n_rows":22,"n_cols":3,"rows_kept":22,"cut":false,"hidden":true,"merged":[]}
[]
[]
["Mar-Jul","Módulo 1","UD 1"]
["Ago-Dic","Módulo 2","UD 2"]
[null,"Módulo 3","UD 3"]
[null,"Módulo 4","UD 4"]
[null,"Módulo 5","UD 5"]
[null,"Módulo 6","UD 6"]
[null,"Módulo 7","UD 7"]
[null,"Módulo 8","UD 8"]
[null,"Módulo 9","UD 9"]
[null,"Módulo 10","UD 10"]
[null,"Módulo 11","UD 11"]
[null,"Módulo 12","UD 12"]
[null,"Módulo 13","UD 13"]
[null,"Módulo 14","UD 14"]
[null,"Módulo 15","UD 15"]
[null,"Módulo 16","UD 16"]
[null,"Módulo 17","UD 17"]
[null,"Módulo 18","UD 18"]
[null,"Módulo 19","UD 19"]
[null,"Módulo 20","UD 20"]